BEGIN:VCALENDAR
METHOD:PUBLISH
VERSION:2.0
CALSCALE:GREGORIAN
PRODID:-//NONSGML Sandhills Development\, LLC//NONSGML Sugar Calendar Fe
 eds v3.5.0//EN
X-WR-CALNAME:GFC Travel Tryouts U11-U13
X-WR-CALDESC:Greene Futbol Club
X-WR-TIMEZONE:America/New_York
BEGIN:VTIMEZONE
TZID:America/New_York
BEGIN:DAYLIGHT
TZOFFSETFROM:-0500
TZOFFSETTO:-0400
DTSTART:20260308T070000
TZNAME:EDT
END:DAYLIGHT
END:VTIMEZONE
BEGIN:VTIMEZONE
TZID:America/New_York
BEGIN:DAYLIGHT
TZOFFSETFROM:-0500
TZOFFSETTO:-0400
DTSTART:20260308T070000
TZNAME:EDT
END:DAYLIGHT
END:VTIMEZONE
BEGIN:VEVENT
SUMMARY:GFC Travel Tryouts U11-U13
DESCRIPTION:Tryouts to be held at the Blue Ridge School Grass Fields\n\n
 Blue Ridge School\n273 Mayo Drive\nDyke\, VA\n\nPlease pre-register thro
 ugh your GFC account.
URL;VALUE=URI:https://www.gfcsoccer.com/events/gfc-travel-tryouts-u11-u1
 3/
UID:urn:uuid:9c97a605-3bde-4bc5-9949-cd2f07bbade1
STATUS:CONFIRMED
ORGANIZER:
DTSTAMP:20260424T083534Z
DTSTART;TZID=America/New_York:20260513T180000
DTEND;TZID=America/New_York:20260513T193000
END:VEVENT
END:VCALENDAR