BEGIN:VCALENDAR
METHOD:PUBLISH
VERSION:2.0
CALSCALE:GREGORIAN
PRODID:-//NONSGML Sandhills Development\, LLC//NONSGML Sugar Calendar Fe
 eds v3.5.0//EN
X-WR-CALNAME:Test Event
X-WR-CALDESC:Greene Futbol Club
X-WR-TIMEZONE:America/New_York
BEGIN:VTIMEZONE
TZID:America/New_York
BEGIN:STANDARD
TZOFFSETFROM:-0400
TZOFFSETTO:-0500
DTSTART:20241103T060000
TZNAME:EST
END:STANDARD
END:VTIMEZONE
BEGIN:VTIMEZONE
TZID:America/New_York
BEGIN:STANDARD
TZOFFSETFROM:-0400
TZOFFSETTO:-0500
DTSTART:20241103T060000
TZNAME:EST
END:STANDARD
END:VTIMEZONE
BEGIN:VEVENT
SUMMARY:Test Event
DESCRIPTION:test event!
URL;VALUE=URI:https://www.gfcsoccer.com/events/test-event/
UID:urn:uuid:e9434528-8045-46ae-8a39-9389514da536
STATUS:CONFIRMED
ORGANIZER:
DTSTAMP:20260424T083107Z
DTSTART;VALUE=DATE:20250207
END:VEVENT
END:VCALENDAR